BEGIN:VCALENDAR
VERSION:2.0
PRODID:-//ESV tauchen - ECPv6.15.20//NONSGML v1.0//EN
CALSCALE:GREGORIAN
METHOD:PUBLISH
X-WR-CALNAME:ESV tauchen
X-ORIGINAL-URL:https://esv-tauchen-stvalentin.at
X-WR-CALDESC:Veranstaltungen für ESV tauchen
REFRESH-INTERVAL;VALUE=DURATION:PT1H
X-Robots-Tag:noindex
X-PUBLISHED-TTL:PT1H
BEGIN:VTIMEZONE
TZID:UTC
BEGIN:STANDARD
TZOFFSETFROM:+0000
TZOFFSETTO:+0000
TZNAME:UTC
DTSTART:20250101T000000
END:STANDARD
END:VTIMEZONE
BEGIN:VEVENT
DTSTART;VALUE=DATE:20260425
DTEND;VALUE=DATE:20260503
DTSTAMP:20260424T164114
CREATED:20260404T055057Z
LAST-MODIFIED:20260404T061254Z
UID:5102-1777075200-1777766399@esv-tauchen-stvalentin.at
SUMMARY:Tauchreise Hurghada
DESCRIPTION:Kristallklares Wasser und bunte Korallenriffe – wir entfliehen dem Alltag und erkunden die Unterwasserwelt des Roten Meeres. Eine Woche voller unvergesslicher Tauchgänge und Sonne pur.
URL:https://esv-tauchen-stvalentin.at/event/tauchreise-hurghada/
LOCATION:Arabia Azur Resort\, Arabia Azur Resort\, Red Sea\, Hurghada\, 1966806\, Egypt
ATTACH;FMTTYPE=image/jpeg:https://esv-tauchen-stvalentin.at/wp-content/uploads/2026/04/PXL_20240529_141124934-EFFECTS-scaled.jpg
END:VEVENT
END:VCALENDAR